BEGIN:VCALENDAR
VERSION:2.0
PRODID:-//ConsuladoDeNicaragua.com - ECPv6.15.16.1//NONSGML v1.0//EN
CALSCALE:GREGORIAN
METHOD:PUBLISH
X-WR-CALNAME:ConsuladoDeNicaragua.com
X-ORIGINAL-URL:https://consuladodenicaragua.com
X-WR-CALDESC:Events for ConsuladoDeNicaragua.com
REFRESH-INTERVAL;VALUE=DURATION:PT1H
X-Robots-Tag:noindex
X-PUBLISHED-TTL:PT1H
BEGIN:VTIMEZONE
TZID:America/Managua
BEGIN:STANDARD
TZOFFSETFROM:-0600
TZOFFSETTO:-0600
TZNAME:CST
DTSTART:20150101T000000
END:STANDARD
END:VTIMEZONE
BEGIN:VTIMEZONE
TZID:UTC
BEGIN:STANDARD
TZOFFSETFROM:+0000
TZOFFSETTO:+0000
TZNAME:UTC
DTSTART:20140101T000000
END:STANDARD
END:VTIMEZONE
BEGIN:VEVENT
DTSTART;TZID=America/Managua:20160311T190000
DTEND;TZID=America/Managua:20160311T210000
DTSTAMP:20260423T122344
CREATED:20160309T194204Z
LAST-MODIFIED:20160309T194204Z
UID:1247-1457722800-1457730000@consuladodenicaragua.com
SUMMARY:A disfrutar de la Expolatinoamericana del folklore en Managua
DESCRIPTION:  \nEl folclor de Costa Rica\, El Salvador\, Colombia y Nicaragua se tomará las tablas del escenario del Teatro Nacional Rubén Darío este viernes\, 11 de marzo\, a partir de las siete de la noche. \nPor Costa Rica participa la Agrupación Folklórica La Coyolera\, que trae musica en vivo; por El Salvador el Conjunto Folklórico de la Universidad de El Salvador; además\, la Agrupacion Viva Colombia y por Nicaragua danzará el Ballet Folklórico Mestizaje\, el Ballet Folklórico Nicarahuatl\, el Ballet Folklórico Tradiciones de Nicaragua y el Ballet Folklórico Quetzalnahuatl Infantil. \nEl espectáculo estará dividido en tres segmentos con participaciones infantiles\, juveniles y las agrupaciones internacionales. \nEste es un evento organizado por la Asociación de Artistas de la Danza y el Ballet Folklórico Mestizaje\, y se realiza en conmemoracion del centenario del paso a la inmortalidad del  gran poeta nicaragüense y universal Rubén Darío. \nEl precio de entrada: C$200 Platea\, C$250 1er. Balcón\, y 2do. y 3er. Balcón C$150. \n  \nReferencia: El Nuevo Diario
URL:https://consuladodenicaragua.com/event/a-disfrutar-de-la-expolatinoamericana-del-folklore-en-managua/
LOCATION:Teatro Nacional Rubén Darío\, Barrio Rubén Darío\, Managua\, Managua\, Nicaragua
CATEGORIES:Cultural
END:VEVENT
BEGIN:VEVENT
DTSTART;TZID=UTC:20151231T220000
DTEND;TZID=UTC:20160101T050000
DTSTAMP:20260423T122344
CREATED:20160101T161631Z
LAST-MODIFIED:20160101T161719Z
UID:387-1451599200-1451624400@consuladodenicaragua.com
SUMMARY:Circo Loco
DESCRIPTION:Estamos a pocas horas para finalizar el 2015 y en ‪#‎weekendbeachclub‬ nos preparamos para despedir a lo grande. ‪#‎CircoLoco‬ 2015\n¡Quedan muy pocas preventas! \nPRE VENTAS\n*** GENERAL *** $8\n*** VIP *** $15 \nDÍA DEL EVENTO\n*** GENERAL *** $10\n*** VIP *** $20 \n\nÁrea General:\nFeeling Beer by Victoria Frost C$180 | Cubetazo by Victoria Frost C$240 | Victoria Frost C$20 | \nÁrea Vip:\nOpen bar de RON\, VODKA y CERVEZA de 11PM-2AM | Promoción de Victoria Frost C$15 | Mega Cocteles C$40 \n\n 
URL:https://consuladodenicaragua.com/event/circo-loco/
LOCATION:Weekend Beach Club\, Centro Turístico de Granada\, entrada principal 900 mts. al Sur\, Granada\, Granada\, Nicaragua
CATEGORIES:Entertainment,Nightlife,Party
END:VEVENT
END:VCALENDAR